BEGIN:VCALENDAR
VERSION:2.0
PRODID:-//Knights of Columbus Council #3162 - ECPv6.15.12.2//NONSGML v1.0//EN
CALSCALE:GREGORIAN
METHOD:PUBLISH
X-ORIGINAL-URL:https://kofc3162.org
X-WR-CALDESC:Events for Knights of Columbus Council #3162
REFRESH-INTERVAL;VALUE=DURATION:PT1H
X-Robots-Tag:noindex
X-PUBLISHED-TTL:PT1H
BEGIN:VTIMEZONE
TZID:America/Los_Angeles
BEGIN:DAYLIGHT
TZOFFSETFROM:-0800
TZOFFSETTO:-0700
TZNAME:PDT
DTSTART:20210314T100000
END:DAYLIGHT
BEGIN:STANDARD
TZOFFSETFROM:-0700
TZOFFSETTO:-0800
TZNAME:PST
DTSTART:20211107T090000
END:STANDARD
BEGIN:DAYLIGHT
TZOFFSETFROM:-0800
TZOFFSETTO:-0700
TZNAME:PDT
DTSTART:20220313T100000
END:DAYLIGHT
BEGIN:STANDARD
TZOFFSETFROM:-0700
TZOFFSETTO:-0800
TZNAME:PST
DTSTART:20221106T090000
END:STANDARD
BEGIN:DAYLIGHT
TZOFFSETFROM:-0800
TZOFFSETTO:-0700
TZNAME:PDT
DTSTART:20230312T100000
END:DAYLIGHT
BEGIN:STANDARD
TZOFFSETFROM:-0700
TZOFFSETTO:-0800
TZNAME:PST
DTSTART:20231105T090000
END:STANDARD
BEGIN:DAYLIGHT
TZOFFSETFROM:-0800
TZOFFSETTO:-0700
TZNAME:PDT
DTSTART:20240310T100000
END:DAYLIGHT
BEGIN:STANDARD
TZOFFSETFROM:-0700
TZOFFSETTO:-0800
TZNAME:PST
DTSTART:20241103T090000
END:STANDARD
BEGIN:DAYLIGHT
TZOFFSETFROM:-0800
TZOFFSETTO:-0700
TZNAME:PDT
DTSTART:20250309T100000
END:DAYLIGHT
BEGIN:STANDARD
TZOFFSETFROM:-0700
TZOFFSETTO:-0800
TZNAME:PST
DTSTART:20251102T090000
END:STANDARD
BEGIN:DAYLIGHT
TZOFFSETFROM:-0800
TZOFFSETTO:-0700
TZNAME:PDT
DTSTART:20260308T100000
END:DAYLIGHT
BEGIN:STANDARD
TZOFFSETFROM:-0700
TZOFFSETTO:-0800
TZNAME:PST
DTSTART:20261101T090000
END:STANDARD
END:VTIMEZONE
BEGIN:VEVENT
DTSTART;VALUE=DATE:20250829
DTEND;VALUE=DATE:20250830
DTSTAMP:20260420T013805
CREATED:20230720T161800Z
LAST-MODIFIED:20250512T140858Z
UID:5172-1756425600-1756511999@kofc3162.org
SUMMARY:Knights of Columbus 3nd Annual “MSgt Tuputala (Tala) Paulo Memorial Charity Golf Tournament“ August 29\, 2025
DESCRIPTION:Knights of Columbus 3nd Annual “MSgt Tuputala (Tala) Paulo Memorial Charity Golf Tournament“ \nOceanside Charity Golf Tournament August 29\, 2025\nWhen:      Friday\, Aug 29\, 2025 8:30 Shotgun Start \nWhere:     Marine Memorial Golf Course – Camp Pendleton \nVenue Amenities: Driving Range\, Putting and Chipping Greens\, GPS Carts\, Pro Shop\, Silent Auction\, Patio Covered and Indoor Dining and Banquet Facilities. Randy Jones Invitational Qualifier \n\nRegister for Golf Tournament\n\n\n\n\n  \n\n\n\n\n\n\n\n\nJoin Our Charity Golf Tournament!\nSupport a great cause at the Knights of Columbus Council 3162 Annual Charity Golf Tournament! Held at [insert venue]\, this fun-filled day on the course brings our community together to raise funds for [specific cause]. Whether you’re a seasoned golfer or just love a good time\, all are welcome. Enjoy friendly competition\, prizes\, and a chance to make a difference. Register now at kofc3162.org/golf to secure your spot! Don’t miss this opportunity to swing for charity and connect with others. Follow us for updates and details.\nFocus Keyphrase: Charity Golf Tournament\n\n\n  \n 
URL:https://kofc3162.org/event/knights-of-columbus-1st-annual-msgt-tuputala-tala-paulo-memorial-charity-golf-tournament-2/
LOCATION:Marine Memorial Golf Course (Camp Pendleton)\, Bldg. 18415 Golf Course Road\, Camp Pendleton\, CA\, 92055\, United States
CATEGORIES:Community,Faith,Family,food,Membership,ORGANIZATIONAL,Volunteer Opportunities,Youth Activity
ATTACH;FMTTYPE=image/png:https://kofc3162.org/wp-content/uploads/2025/02/FireShot-Capture-005-Golf-Tournament-August-29-2025-Knights-of-Columbus-Knights-of-Columb_-kofc3162.org_.png
END:VEVENT
BEGIN:VEVENT
DTSTART;TZID=America/Los_Angeles:20240823T083000
DTEND;TZID=America/Los_Angeles:20240823T170000
DTSTAMP:20260420T013805
CREATED:20230720T161800Z
LAST-MODIFIED:20240710T191643Z
UID:2931-1724401800-1724432400@kofc3162.org
SUMMARY:Knights of Columbus 2nd Annual “MSgt Tuputala (Tala) Paulo Memorial Charity Golf Tournament“
DESCRIPTION:Knights of Columbus 2nd Annual “MSgt Tuputala (Tala) Paulo Memorial Charity Golf Tournament“ \n\nSCAN ME\n\n\nTournament Brochure\n\nWhen:        Friday\, August 23\, 2024 8:30 Shotgun Start\, (4 Player Scramble) \nWhere:     Marine Memorial Golf Course (MMGC) onboard Camp Pendleton (About) \nBenefiting \nMission San Luis Rey Parish & Semper Fi Fund \n\nREGISTER FOR THE GOLF TOURNAMENT\n\n  \n\nQR Cfor Golf Registration\n\n\n\n\n\nREGISTRATION LINKS\nRegistration OPEN\n\n\n\n\nGOLF REGISTRATION\nRegister for the Golf Tournament\n$150 per (golf+dinner)\, ($500 /foursome+dinners)\, $40 (dinner only)\n\n\nMILITARY EASY BASE ACCESS PASS\n(Easy Pass Base Access) form for Civilian Access for GOLF Tournament.\n\n\nSPONSORSHIP\nLearn and Sign Up for Sponsorships\n\n\nGOLF TOURNAMENT BROCHURE\nGolf Tournament Brochure\n\n\nWe encourage all golfers and all ages to participate\nGolf Tournament EXTRA’S Putting Contest\, Ball Drop and Super Ticket Bundle (Coming Soon) \nSilent Auction (Coming Soon) \n\n\n\n\nBenefiting \nMission San Luis Rey Parish & Semper Fi Fund \n\n\n\n\n\n\n\n\n\n\n\n\nDear Fellow BKs\, Active Duty\, Veterans\, Golfers\, Community Members & Volunteers; \nAs a result of many generous sponsors and players over the years we have been able to expand and support our Charitable Ministries both here at Mission San Luis Rey parish\, but also all of San Diego County. \nWhether your support is a Major Sponsorship\, hole sponsor\, beverage cart sponsor\, player\, donation or in-kind contribution\, you can rest assured that we are most appreciative and we will use the proceeds to help those in need. \nAs we look forward to August 23\, 2024 we are again asking for your critical support to continue our Ministries knowing that they make a difference in many\, many lives here in our community. In 2023 we have chosen to benefactor the needs of the Mission San Luis Rey Parish which supports needy families and youth activities & the Semper Fi Fund ( Semper Fi Fund/America’s Fund Camp Pendleton Unit. Provides Financial Support to Combat Wounded\, ill & Injured Members of Armed Services &Their Families). We have also chosen to host our event at the Marine Memorial Golf Course (MMGC) \, which supports our Sailors and Marines onboard Camp Pendleton with more than 80 comprehensive programs supported by Non-Appropriated Funds\, profits generated from retail\, services\, and recreational activities\, such as golf events at Marine Memorial Golf Course. \nLast year was such a great success. Our tournament has been dedicated to a 26 year retired Marine MSgt\, who passed away in May 2022. He was a cornerstone of our parish and community and exemplified Charity\, Unity and Fraternity. The\, “MSgt Tuputala (Tala) Paulo 2nd Annual Memorial Charity Golf Tournament”. You can learn more about MSgt and Brother Knight: Tala Paulo here. \nWe’ve upgraded and streamlined this year’s tournament with on-course beverage carts and a buffet style dinner\, extra bar tenders\, just to name a few items\, I want to say thank you for your consideration and donating your time and resources in supporting our Knights of Columbus Council and these charities. \nDAVE AUSTIN\, Retired USMC \nGolf Committee Chairperson\nKnight of Columbus: Council 3162\nMission San Luis Rey Parish\nOceanside\, CA\n760.917.6439\ndavidlaustin1965@gmail.com \n  \n\n\n\n\n\n2023 Knights of Columbus 2nd Annual “MSgt Tuputala (Tala) Paulo Memorial” Charity Golf Tournament“\n\n\nDATE:\nFriday\, August 23\, 2024\n\n\n\n\nLOCATION:\nMarine Memorial Golf Course\nBldg. 18415 Golf Course Road\nCamp Pendleton\, CA 92055\nOffice: 760-763-7869\nPro Shop: 760-725-4653Please find directions to Marine Memorial Golf Course below:\nDirections from I-5:\nTake Highway 76 East. Turn left on College Blvd.  At the “T” intersection\, turn right on North River Road/Vandegrift Blvd. Stay on Vandegrift and go towards the San Luis Rey Gate\, please use the far right lane. Pass the Paintball field on your left. Turn left onto 4th Street. Turn left on Golf Course Road.Directions from I-I5:\nTake Highway 76 West towards Oceanside. Turn right on North River Road (two miles past Bonsall). Turn right onto Vandegrift Blvd. Go towards the San Luis Rey Gate\, please use the far right lane. Pass the Paintball field on your left. Turn left onto 4th Street. Turn left on Golf Course Road \nDisclaimer:\nThe United States Marine Corps; Marine Corps Installation West-Marine Corps Base\, Camp Pendleton; and Marine Corps Community Services do not support or endorse this event.\n\n\nSCHEDULE:\n07:00 – Player check-in is open/Practice Range Opens\, Sign in\, get your grab bag\, purchase Golf Extras if you haven’t and goodies\, allow 30 extra minutes for heavy base commuter traffic expected.\n07:45 – Putting Contest (chance to win a brand new Taylor Made Putter)\n08:25 – Pledge of Allegiance\n08:30 – 13:30 GOLF Shotgun Start (4 Person Scramble Best Ball):\nImmediately Following Tournament Play – Ball Drop\, Conversation\, Laughter and No host Cocktails\, Dinner/Awards Banquet\, bidder winner’s table\, prizes\, trophy table\, announcements\, Winning Trophy Presentation\, about Tala Paulo closing remarks and thank you’s\n\n\nELIGIBILITY:\nOpen to all golfers civilians\, active duty and veterans.\n\n\nGOLFER REGISTRATION:\n$150 per golfer\n$500 per foursome\n$40 for dinner only\nRegistration is open for this years tournament\n\n\nQuestions:\nContact:\nDave Austin: 760.917.6439 // davidlaustin1965@gmail.com\n\n\nVolunteers:\nIf you are Brother Knight interested in volunteering please sign-up. Contact PGK Dave Austin\n\n\nQualifier\nThe top three foursomes will qualify to participate in Randy Jones Invitational Semi-Finals\n\n\n\n\nPosters\, Brochures and Press Release’s to be distributed can be downloaded here:\nMSgt Tuputala (Tala) Paulo Memorial Charity Golf Tournament Brochure\nMSgt Tuputala (Tala) Paulo Memorial Charity Golf Tournament Press Release\nABOUT: MSgt Tuputala (Tala) Paulo
URL:https://kofc3162.org/event/knights-of-columbus-1st-annual-msgt-tuputala-tala-paulo-memorial-charity-golf-tournament/
LOCATION:Marine Memorial Golf Course (Camp Pendleton)\, Bldg. 18415 Golf Course Road\, Camp Pendleton\, CA\, 92055\, United States
CATEGORIES:Community,Faith,Family,food,Membership,ORGANIZATIONAL,Volunteer Opportunities,Youth Activity
ATTACH;FMTTYPE=image/png:https://kofc3162.org/wp-content/uploads/2023/04/image_2023-04-03_123352119.png
END:VEVENT
BEGIN:VEVENT
DTSTART;VALUE=DATE:20230720
DTEND;VALUE=DATE:20230826
DTSTAMP:20260420T013805
CREATED:20230720T163135Z
LAST-MODIFIED:20230808T143215Z
UID:2936-1689811200-1693007999@kofc3162.org
SUMMARY:Golf Tournament Online Silent Auction
DESCRIPTION:  \nThe Golf Tournament Silent Auction is online and accepting bids\, Don’t loose out on your favorite auction items\, there are golf clubs equipment\, custom pens\, sports (golf) memorabilia\, restaurants\, food\, local tours and outings\, golf fittings\, golf training\, etc. Your donations will be great help for our charities the Semper Fi Fund and the San Luis Rey Parish\nCheck out the auction for yourself \n  \n \nGolf tournament Information \n  \n 
URL:https://kofc3162.org/event/golf-tournament-online-silent-auction/
CATEGORIES:Auction,Community,Membership,ORGANIZATIONAL,Volunteer Opportunities
ATTACH;FMTTYPE=image/png:https://kofc3162.org/wp-content/uploads/2023/07/image-3.png
END:VEVENT
BEGIN:VEVENT
DTSTART;TZID=America/Los_Angeles:20230618T180000
DTEND;TZID=America/Los_Angeles:20230618T180000
DTSTAMP:20260420T013805
CREATED:20220817T172517Z
LAST-MODIFIED:20220817T172517Z
UID:2088-1687111200-1687111200@kofc3162.org
SUMMARY:Membership Open House
DESCRIPTION:(EVENT) : 	Membership Open House	(LOCATION) : 	Knights Hall	(PURPOSE) : 	Membership	(ORGANIZER) :	PGK Austin
URL:https://kofc3162.org/event/membership-open-house-13/
CATEGORIES:Membership
END:VEVENT
BEGIN:VEVENT
DTSTART;TZID=America/Los_Angeles:20230521T180000
DTEND;TZID=America/Los_Angeles:20230521T180000
DTSTAMP:20260420T013805
CREATED:20220817T172515Z
LAST-MODIFIED:20220817T172515Z
UID:2082-1684692000-1684692000@kofc3162.org
SUMMARY:Membership Open House
DESCRIPTION:(EVENT) : 	Membership Open House	(LOCATION) : 	Knights Hall	(PURPOSE) : 	Membership	(ORGANIZER) :	PGK Austin
URL:https://kofc3162.org/event/membership-open-house-12/
CATEGORIES:Membership
END:VEVENT
BEGIN:VEVENT
DTSTART;TZID=America/Los_Angeles:20230416T180000
DTEND;TZID=America/Los_Angeles:20230416T180000
DTSTAMP:20260420T013805
CREATED:20220817T172457Z
LAST-MODIFIED:20220817T172457Z
UID:2071-1681668000-1681668000@kofc3162.org
SUMMARY:Membership Open House
DESCRIPTION:(EVENT) : 	                         Membership Open House	(LOCATION) : 	               Knights Hall	(PURPOSE) : 	                 Membership	(ORGANIZER) :	      PGK Austin
URL:https://kofc3162.org/event/membership-open-house-11/
CATEGORIES:Membership
END:VEVENT
BEGIN:VEVENT
DTSTART;TZID=America/Los_Angeles:20230319T180000
DTEND;TZID=America/Los_Angeles:20230319T180000
DTSTAMP:20260420T013805
CREATED:20220817T172351Z
LAST-MODIFIED:20220817T172351Z
UID:2058-1679248800-1679248800@kofc3162.org
SUMMARY:Membership Open House
DESCRIPTION:(EVENT) : 	Membership Open House	(LOCATION) : 	Knights Hall	(PURPOSE) : 	Membership	(ORGANIZER) :	PGK Austin
URL:https://kofc3162.org/event/membership-open-house-10/
CATEGORIES:Membership
END:VEVENT
BEGIN:VEVENT
DTSTART;TZID=America/Los_Angeles:20230212T180000
DTEND;TZID=America/Los_Angeles:20230212T180000
DTSTAMP:20260420T013805
CREATED:20220817T172250Z
LAST-MODIFIED:20220817T172250Z
UID:2043-1676224800-1676224800@kofc3162.org
SUMMARY:Membership Open House
DESCRIPTION:(EVENT) : 	Membership Open House	(LOCATION) : 	Knights Hall	(PURPOSE) : 	Membership	(ORGANIZER) :	PGK Austin
URL:https://kofc3162.org/event/membership-open-house-9/
CATEGORIES:Membership
END:VEVENT
BEGIN:VEVENT
DTSTART;TZID=America/Los_Angeles:20230122T180000
DTEND;TZID=America/Los_Angeles:20230122T180000
DTSTAMP:20260420T013805
CREATED:20220817T171834Z
LAST-MODIFIED:20220817T171834Z
UID:2028-1674410400-1674410400@kofc3162.org
SUMMARY:Membership Open House
DESCRIPTION:(EVENT) : 	Membership Open House	(LOCATION) : 	Knights Hall	(PURPOSE) : 	Membership	(ORGANIZER) :	PGK Austin
URL:https://kofc3162.org/event/membership-open-house-8/
CATEGORIES:Membership
END:VEVENT
BEGIN:VEVENT
DTSTART;TZID=America/Los_Angeles:20221120T180000
DTEND;TZID=America/Los_Angeles:20221120T180000
DTSTAMP:20260420T013805
CREATED:20220817T171524Z
LAST-MODIFIED:20220817T171524Z
UID:2010-1668967200-1668967200@kofc3162.org
SUMMARY:Membership Open House
DESCRIPTION:(EVENT) : 	Membership Open House	(LOCATION) : 	Knights Hall	(PURPOSE) : 	Membership	(ORGANIZER) :	PGK Austin
URL:https://kofc3162.org/event/membership-open-house-7/
CATEGORIES:Membership
END:VEVENT
BEGIN:VEVENT
DTSTART;TZID=America/Los_Angeles:20221016T180000
DTEND;TZID=America/Los_Angeles:20221016T180000
DTSTAMP:20260420T013805
CREATED:20220817T171307Z
LAST-MODIFIED:20220817T171307Z
UID:1993-1665943200-1665943200@kofc3162.org
SUMMARY:Membership Open House
DESCRIPTION:(EVENT) : 	Membership Open House	(LOCATION) : 	Knights Hall	(PURPOSE) : 	Membership	(ORGANIZER) :	PGK Austin
URL:https://kofc3162.org/event/membership-open-house-6/
CATEGORIES:Membership
END:VEVENT
BEGIN:VEVENT
DTSTART;TZID=America/Los_Angeles:20220918T180000
DTEND;TZID=America/Los_Angeles:20220918T180000
DTSTAMP:20260420T013805
CREATED:20220817T163741Z
LAST-MODIFIED:20220817T163741Z
UID:1981-1663524000-1663524000@kofc3162.org
SUMMARY:Membership Open House
DESCRIPTION:(EVENT) :	Membership Open House	(LOCATION) :	Knights Hall	(PURPOSE) :	Membership	(ORGANIZER) :	PGK Austin
URL:https://kofc3162.org/event/membership-open-house-5/
CATEGORIES:Membership
END:VEVENT
BEGIN:VEVENT
DTSTART;TZID=America/Los_Angeles:20220821T180000
DTEND;TZID=America/Los_Angeles:20220821T180000
DTSTAMP:20260420T013805
CREATED:20220817T150833Z
LAST-MODIFIED:20220817T163641Z
UID:1869-1661104800-1661104800@kofc3162.org
SUMMARY:Membership Open House
DESCRIPTION:(EVENT) :	Membership Open House	(LOCATION) :	Knights Hall	(PURPOSE) :	Membership	(ORGANIZER) :	PGK Austin
URL:https://kofc3162.org/event/membership-open-house-3/
CATEGORIES:Membership
END:VEVENT
END:VCALENDAR