BEGIN:VCALENDAR
VERSION:2.0
PRODID:-//Knights of Columbus Council #3162 - ECPv6.15.12.2//NONSGML v1.0//EN
CALSCALE:GREGORIAN
METHOD:PUBLISH
X-WR-CALNAME:Knights of Columbus Council #3162
X-ORIGINAL-URL:https://kofc3162.org
X-WR-CALDESC:Events for Knights of Columbus Council #3162
REFRESH-INTERVAL;VALUE=DURATION:PT1H
X-Robots-Tag:noindex
X-PUBLISHED-TTL:PT1H
BEGIN:VTIMEZONE
TZID:America/Los_Angeles
BEGIN:DAYLIGHT
TZOFFSETFROM:-0800
TZOFFSETTO:-0700
TZNAME:PDT
DTSTART:20190310T100000
END:DAYLIGHT
BEGIN:STANDARD
TZOFFSETFROM:-0700
TZOFFSETTO:-0800
TZNAME:PST
DTSTART:20191103T090000
END:STANDARD
BEGIN:DAYLIGHT
TZOFFSETFROM:-0800
TZOFFSETTO:-0700
TZNAME:PDT
DTSTART:20200308T100000
END:DAYLIGHT
BEGIN:STANDARD
TZOFFSETFROM:-0700
TZOFFSETTO:-0800
TZNAME:PST
DTSTART:20201101T090000
END:STANDARD
BEGIN:DAYLIGHT
TZOFFSETFROM:-0800
TZOFFSETTO:-0700
TZNAME:PDT
DTSTART:20210314T100000
END:DAYLIGHT
BEGIN:STANDARD
TZOFFSETFROM:-0700
TZOFFSETTO:-0800
TZNAME:PST
DTSTART:20211107T090000
END:STANDARD
BEGIN:DAYLIGHT
TZOFFSETFROM:-0800
TZOFFSETTO:-0700
TZNAME:PDT
DTSTART:20220313T100000
END:DAYLIGHT
BEGIN:STANDARD
TZOFFSETFROM:-0700
TZOFFSETTO:-0800
TZNAME:PST
DTSTART:20221106T090000
END:STANDARD
END:VTIMEZONE
BEGIN:VEVENT
DTSTART;TZID=America/Los_Angeles:20211205T100000
DTEND;TZID=America/Los_Angeles:20211205T110000
DTSTAMP:20260420T101019
CREATED:20211203T170157Z
LAST-MODIFIED:20211203T170157Z
UID:1145-1638698400-1638702000@kofc3162.org
SUMMARY:Corporate Communion
DESCRIPTION:
URL:https://kofc3162.org/event/corporate-communion-5/
CATEGORIES:Prayer Service
ATTACH;FMTTYPE=image/png:https://kofc3162.org/wp-content/uploads/2021/10/image_2021-10-21_092345.png
END:VEVENT
BEGIN:VEVENT
DTSTART;TZID=America/Los_Angeles:20211107T170000
DTEND;TZID=America/Los_Angeles:20211107T180000
DTSTAMP:20260420T101019
CREATED:20211021T162350Z
LAST-MODIFIED:20211021T162350Z
UID:1074-1636304400-1636308000@kofc3162.org
SUMMARY:Spiritual Reflection
DESCRIPTION:November 7\, 2021\nSUN\n5:00 PM\nSpiritual Reflection\nSerra Center\nFaith
URL:https://kofc3162.org/event/spiritual-reflection/
CATEGORIES:Prayer Service
ATTACH;FMTTYPE=image/png:https://kofc3162.org/wp-content/uploads/2021/10/image_2021-10-21_092345.png
END:VEVENT
BEGIN:VEVENT
DTSTART;TZID=America/Los_Angeles:20211031T180000
DTEND;TZID=America/Los_Angeles:20211031T190000
DTSTAMP:20260420T101019
CREATED:20210902T150242Z
LAST-MODIFIED:20210902T150242Z
UID:1000-1635703200-1635706800@kofc3162.org
SUMMARY:5th Sunday Rosary
DESCRIPTION:5th Sunday Rosary\nSerra Center\nFaith
URL:https://kofc3162.org/event/5th-sunday-rosary/
CATEGORIES:Prayer Service
ATTACH;FMTTYPE=image/png:https://kofc3162.org/wp-content/uploads/2021/04/image_2021-04-07_094154.png
END:VEVENT
BEGIN:VEVENT
DTSTART;TZID=America/Los_Angeles:20210621T193000
DTEND;TZID=America/Los_Angeles:20210621T193000
DTSTAMP:20260420T101019
CREATED:20210602T193158Z
LAST-MODIFIED:20210602T193158Z
UID:905-1624303800-1624303800@kofc3162.org
SUMMARY:FAMILY ROSARY
DESCRIPTION:VIA ZOOM CONTACT RICHARD HIRASUNA 619-248-3478\, richhirasuna@yahoo.com
URL:https://kofc3162.org/event/family-rosary-2/
CATEGORIES:Prayer Service
ATTACH;FMTTYPE=image/png:https://kofc3162.org/wp-content/uploads/2021/04/image_2021-04-07_094154.png
END:VEVENT
BEGIN:VEVENT
DTSTART;TZID=America/Los_Angeles:20210508T140000
DTEND;TZID=America/Los_Angeles:20210508T150000
DTSTAMP:20260420T101019
CREATED:20210501T174457Z
LAST-MODIFIED:20210501T174457Z
UID:803-1620482400-1620486000@kofc3162.org
SUMMARY:SQUIRES/ROSES MEETING MOTHER’S DAY ROSARY
DESCRIPTION:SQUIRES/ROSES MEETING MOTHER’S DAY ROSARY LOCATION TBD/ZOOM
URL:https://kofc3162.org/event/squires-roses-meeting-mothers-day-rosary/
CATEGORIES:Prayer Service,Volunteer Opportunities
ATTACH;FMTTYPE=image/png:https://kofc3162.org/wp-content/uploads/2021/04/image_2021-04-07_094154.png
END:VEVENT
BEGIN:VEVENT
DTSTART;TZID=America/Los_Angeles:20210506T190000
DTEND;TZID=America/Los_Angeles:20210506T200000
DTSTAMP:20260420T101019
CREATED:20210407T170156Z
LAST-MODIFIED:20210501T174253Z
UID:574-1620327600-1620331200@kofc3162.org
SUMMARY:INTO THE BREACH VIA ZOOM
DESCRIPTION:INTO THE BREACH VIA ZOOM.  CONTACT SAGE CHAVEZ 760-429- 4527 sagechavez@yahoo.com
URL:https://kofc3162.org/event/into-the-breach-via-zoom-2/
CATEGORIES:Prayer Service,Volunteer Opportunities
ATTACH;FMTTYPE=image/png:https://kofc3162.org/wp-content/uploads/2021/04/image_2021-04-07_094407.png
ORGANIZER;CN="Sage Chavez":MAILTO:sagechavez@yahoo.com
END:VEVENT
BEGIN:VEVENT
DTSTART;TZID=America/Los_Angeles:20210506T090000
DTEND;TZID=America/Los_Angeles:20210506T100000
DTSTAMP:20260420T101019
CREATED:20210501T173932Z
LAST-MODIFIED:20210501T174304Z
UID:797-1620291600-1620295200@kofc3162.org
SUMMARY:HOLY HOUR (ADORATION)
DESCRIPTION:CONTACT SAGE CHAVEZ 760-429- 4527 sagechavez@yahoo.com
URL:https://kofc3162.org/event/holy-hour-adoration-2/
CATEGORIES:Prayer Service,Volunteer Opportunities
ATTACH;FMTTYPE=image/png:https://kofc3162.org/wp-content/uploads/2021/05/image_2021-05-01_103901.png
ORGANIZER;CN="Sage Chavez":MAILTO:sagechavez@yahoo.com
END:VEVENT
BEGIN:VEVENT
DTSTART;TZID=America/Los_Angeles:20210422T070000
DTEND;TZID=America/Los_Angeles:20210422T080000
DTSTAMP:20260420T101019
CREATED:20210407T170050Z
LAST-MODIFIED:20210416T135731Z
UID:571-1619074800-1619078400@kofc3162.org
SUMMARY:HOLY HOUR (ADORATION)
DESCRIPTION:CONTACT SAGE CHAVEZ 760-429- 4527 sagechavez@yahoo.com \nHoly Hour\, April 22\, 9 AM-10 AM\, Serra Center
URL:https://kofc3162.org/event/holy-hour-adoration/
CATEGORIES:Prayer Service
ATTACH;FMTTYPE=image/png:https://kofc3162.org/wp-content/uploads/2021/04/image_2021-04-07_100006.png
END:VEVENT
BEGIN:VEVENT
DTSTART;TZID=America/Los_Angeles:20201008T123000
DTEND;TZID=America/Los_Angeles:20201008T133000
DTSTAMP:20260420T101019
CREATED:20201003T233657Z
LAST-MODIFIED:20201003T233657Z
UID:169-1602160200-1602163800@kofc3162.org
SUMMARY:Family Rosary Via Zoom
DESCRIPTION:Family Rosary for October 8th at 0730\nBrothers Knights! Please gather your families and join Cherie and me for the Knights of Columbus Council 3162 Family Rosary! Rest assured it will be COVID safe via ZOOM. We would like to start promptly at 7:30 pm on Thursday October 8th.  We can present our intentions to the group at the beginning or type them into a ZOOM text box to “all” during the Rosary. If any family would like to host a family Rosary in November please email me your name and desired date in November.\nVivat Jesus! BK Rich and Cherie Hirasuna\nrichhirasuna@yahoo.com\nTopic: Family Rosary\nTime: Oct 8\, 2020 07:30 PM Pacific Time (US and Canada) \nJoin Zoom Meeting\nhttps://us02web.zoom.us/j/83315882115?pwd=a1BtQ0c4dE5sL2RKQXhDN2FNNUN4dz09 \nMeeting ID: 833 1588 2115  Passcode: 424279\nDial by your location: (+1 669 900 9128 US)
URL:https://kofc3162.org/event/family-rosary-via-zoom/
LOCATION:Family Rosary (Zoom)
CATEGORIES:Prayer Service
ATTACH;FMTTYPE=image/jpeg:https://kofc3162.org/wp-content/uploads/2020/10/kocroasry.jpg
ORGANIZER;CN="Rich and Cherie Hirasuna":MAILTO:richhirasuna@yahoo.com
END:VEVENT
END:VCALENDAR