BEGIN:VCALENDAR
VERSION:2.0
PRODID:-//Knights of Columbus Council #3162 - ECPv6.15.12.2//NONSGML v1.0//EN
CALSCALE:GREGORIAN
METHOD:PUBLISH
X-ORIGINAL-URL:https://kofc3162.org
X-WR-CALDESC:Events for Knights of Columbus Council #3162
REFRESH-INTERVAL;VALUE=DURATION:PT1H
X-Robots-Tag:noindex
X-PUBLISHED-TTL:PT1H
BEGIN:VTIMEZONE
TZID:America/Los_Angeles
BEGIN:DAYLIGHT
TZOFFSETFROM:-0800
TZOFFSETTO:-0700
TZNAME:PDT
DTSTART:20210314T100000
END:DAYLIGHT
BEGIN:STANDARD
TZOFFSETFROM:-0700
TZOFFSETTO:-0800
TZNAME:PST
DTSTART:20211107T090000
END:STANDARD
BEGIN:DAYLIGHT
TZOFFSETFROM:-0800
TZOFFSETTO:-0700
TZNAME:PDT
DTSTART:20220313T100000
END:DAYLIGHT
BEGIN:STANDARD
TZOFFSETFROM:-0700
TZOFFSETTO:-0800
TZNAME:PST
DTSTART:20221106T090000
END:STANDARD
BEGIN:DAYLIGHT
TZOFFSETFROM:-0800
TZOFFSETTO:-0700
TZNAME:PDT
DTSTART:20230312T100000
END:DAYLIGHT
BEGIN:STANDARD
TZOFFSETFROM:-0700
TZOFFSETTO:-0800
TZNAME:PST
DTSTART:20231105T090000
END:STANDARD
END:VTIMEZONE
BEGIN:VEVENT
DTSTART;VALUE=DATE:20220826
DTEND;VALUE=DATE:20220827
DTSTAMP:20260420T090741
CREATED:20220817T144034Z
LAST-MODIFIED:20220817T173136Z
UID:1845-1661472000-1661558399@kofc3162.org
SUMMARY:Feast of San Luis Rey
DESCRIPTION:(EVENT) : Feast of San Luis Rey (LOCATION) : Old Mission/Serra Center (PURPOSE) : Procession for Patron Saint (ORGANIZER) : TBD
URL:https://kofc3162.org/event/feast-of-san-luis-rey-2/
CATEGORIES:Procession for Patron Saint
END:VEVENT
END:VCALENDAR