BEGIN:VCALENDAR
VERSION:2.0
PRODID:-//Knights of Columbus Council #3162 - ECPv6.15.12.2//NONSGML v1.0//EN
CALSCALE:GREGORIAN
METHOD:PUBLISH
X-WR-CALNAME:Knights of Columbus Council #3162
X-ORIGINAL-URL:https://kofc3162.org
X-WR-CALDESC:Events for Knights of Columbus Council #3162
REFRESH-INTERVAL;VALUE=DURATION:PT1H
X-Robots-Tag:noindex
X-PUBLISHED-TTL:PT1H
BEGIN:VTIMEZONE
TZID:America/Los_Angeles
BEGIN:DAYLIGHT
TZOFFSETFROM:-0800
TZOFFSETTO:-0700
TZNAME:PDT
DTSTART:20220313T100000
END:DAYLIGHT
BEGIN:STANDARD
TZOFFSETFROM:-0700
TZOFFSETTO:-0800
TZNAME:PST
DTSTART:20221106T090000
END:STANDARD
BEGIN:DAYLIGHT
TZOFFSETFROM:-0800
TZOFFSETTO:-0700
TZNAME:PDT
DTSTART:20230312T100000
END:DAYLIGHT
BEGIN:STANDARD
TZOFFSETFROM:-0700
TZOFFSETTO:-0800
TZNAME:PST
DTSTART:20231105T090000
END:STANDARD
BEGIN:DAYLIGHT
TZOFFSETFROM:-0800
TZOFFSETTO:-0700
TZNAME:PDT
DTSTART:20240310T100000
END:DAYLIGHT
BEGIN:STANDARD
TZOFFSETFROM:-0700
TZOFFSETTO:-0800
TZNAME:PST
DTSTART:20241103T090000
END:STANDARD
BEGIN:DAYLIGHT
TZOFFSETFROM:-0800
TZOFFSETTO:-0700
TZNAME:PDT
DTSTART:20250309T100000
END:DAYLIGHT
BEGIN:STANDARD
TZOFFSETFROM:-0700
TZOFFSETTO:-0800
TZNAME:PST
DTSTART:20251102T090000
END:STANDARD
BEGIN:DAYLIGHT
TZOFFSETFROM:-0800
TZOFFSETTO:-0700
TZNAME:PDT
DTSTART:20260308T100000
END:DAYLIGHT
BEGIN:STANDARD
TZOFFSETFROM:-0700
TZOFFSETTO:-0800
TZNAME:PST
DTSTART:20261101T090000
END:STANDARD
BEGIN:DAYLIGHT
TZOFFSETFROM:-0800
TZOFFSETTO:-0700
TZNAME:PDT
DTSTART:20270314T100000
END:DAYLIGHT
BEGIN:STANDARD
TZOFFSETFROM:-0700
TZOFFSETTO:-0800
TZNAME:PST
DTSTART:20271107T090000
END:STANDARD
END:VTIMEZONE
BEGIN:VEVENT
DTSTART;TZID=America/Los_Angeles:20260216T080000
DTEND;TZID=America/Los_Angeles:20260216T170000
DTSTAMP:20260420T011811
CREATED:20260216T223407Z
LAST-MODIFIED:20260216T223407Z
UID:6521-1771228800-1771261200@kofc3162.org
SUMMARY:Charity Golf Tournament August 14\, 2026
DESCRIPTION:“MSgt Tuputala (Tala) Paulo Memorial Charity Golf Tournament“\n  \nhttps://kofc3162.org/wp-content/uploads/2026/02/kofc3162-GolfTournament-IntroReel.mp4
URL:https://kofc3162.org/event/charity-golf-tournament-august-14-2026/
CATEGORIES:Community,Family,Volunteer Opportunities,Youth Activity
END:VEVENT
BEGIN:VEVENT
DTSTART;VALUE=DATE:20250829
DTEND;VALUE=DATE:20250830
DTSTAMP:20260420T011811
CREATED:20230720T161800Z
LAST-MODIFIED:20250512T140858Z
UID:5172-1756425600-1756511999@kofc3162.org
SUMMARY:Knights of Columbus 3nd Annual “MSgt Tuputala (Tala) Paulo Memorial Charity Golf Tournament“ August 29\, 2025
DESCRIPTION:Knights of Columbus 3nd Annual “MSgt Tuputala (Tala) Paulo Memorial Charity Golf Tournament“ \nOceanside Charity Golf Tournament August 29\, 2025\nWhen:      Friday\, Aug 29\, 2025 8:30 Shotgun Start \nWhere:     Marine Memorial Golf Course – Camp Pendleton \nVenue Amenities: Driving Range\, Putting and Chipping Greens\, GPS Carts\, Pro Shop\, Silent Auction\, Patio Covered and Indoor Dining and Banquet Facilities. Randy Jones Invitational Qualifier \n\nRegister for Golf Tournament\n\n\n\n\n  \n\n\n\n\n\n\n\n\nJoin Our Charity Golf Tournament!\nSupport a great cause at the Knights of Columbus Council 3162 Annual Charity Golf Tournament! Held at [insert venue]\, this fun-filled day on the course brings our community together to raise funds for [specific cause]. Whether you’re a seasoned golfer or just love a good time\, all are welcome. Enjoy friendly competition\, prizes\, and a chance to make a difference. Register now at kofc3162.org/golf to secure your spot! Don’t miss this opportunity to swing for charity and connect with others. Follow us for updates and details.\nFocus Keyphrase: Charity Golf Tournament\n\n\n  \n 
URL:https://kofc3162.org/event/knights-of-columbus-1st-annual-msgt-tuputala-tala-paulo-memorial-charity-golf-tournament-2/
LOCATION:Marine Memorial Golf Course (Camp Pendleton)\, Bldg. 18415 Golf Course Road\, Camp Pendleton\, CA\, 92055\, United States
CATEGORIES:Community,Faith,Family,food,Membership,ORGANIZATIONAL,Volunteer Opportunities,Youth Activity
ATTACH;FMTTYPE=image/png:https://kofc3162.org/wp-content/uploads/2025/02/FireShot-Capture-005-Golf-Tournament-August-29-2025-Knights-of-Columbus-Knights-of-Columb_-kofc3162.org_.png
END:VEVENT
BEGIN:VEVENT
DTSTART;TZID=America/Los_Angeles:20250823T150000
DTEND;TZID=America/Los_Angeles:20250823T190000
DTSTAMP:20260420T011811
CREATED:20250709T213852Z
LAST-MODIFIED:20250709T213852Z
UID:5324-1755961200-1755975600@kofc3162.org
SUMMARY:Feast of San Luis Rey Celebration on August 23rd
DESCRIPTION:Knights of Columbus Feast of San Luis Rey Celebration\nDate: Saturday\, August 23\, 2025\nTime: 3:00 PM – 8:00 PM\nLocation: Mission San Luis Rey Parish\, Serra Gardens & Parish Church\, Oceanside\, CA Join the Knights of Columbus San Luis Rey de Francia Council #3162 for a vibrant celebration of the Feast of San Luis Rey de Francia on August 23rd! This family-friendly event honors our patron saint\, St. Louis IX\, King of France\, with a day filled with faith\, culture\, and community. Event Highlights:  \n\n3:00 PM: Festivities begin in Serra Gardens with food sales and entertainment\, featuring the Luiseño Drums. \n3:45 PM: Mission San Luis Rey Youth Ballet Folklorico performance. \n4:25 PM: Introduction of St. Louis IX\, King of France. \n5:00 PM: Danza Azteca presents traditional Mesoamerican dances. \n5:40 PM: Hospitality Ministry announces Opportunity Winners. \n5:50 PM: Baile de las Canastas\, a dance honoring San Luis Rey. \n6:30 PM: Intercultural Mass in the Parish Church\, followed by a traditional Procession of the Saint and a spectacular fireworks display at the Old Mission Church.\n\nBring a chair and join us for an evening of faith\, fellowship\, and celebration! All are welcome to this free event\, hosted by the Knights of Columbus to support Mission San Luis Rey Parish. For more information\, contact the Parish Office
URL:https://kofc3162.org/event/feast-of-san-luis-rey-celebration-on-august-23rd/
CATEGORIES:Community,Volunteer Opportunities,Youth Activity
ATTACH;FMTTYPE=image/jpeg:https://kofc3162.org/wp-content/uploads/2025/07/feast-san-luis-rey.jpg
END:VEVENT
BEGIN:VEVENT
DTSTART;TZID=America/Los_Angeles:20240823T083000
DTEND;TZID=America/Los_Angeles:20240823T170000
DTSTAMP:20260420T011811
CREATED:20230720T161800Z
LAST-MODIFIED:20240710T191643Z
UID:2931-1724401800-1724432400@kofc3162.org
SUMMARY:Knights of Columbus 2nd Annual “MSgt Tuputala (Tala) Paulo Memorial Charity Golf Tournament“
DESCRIPTION:Knights of Columbus 2nd Annual “MSgt Tuputala (Tala) Paulo Memorial Charity Golf Tournament“ \n\nSCAN ME\n\n\nTournament Brochure\n\nWhen:        Friday\, August 23\, 2024 8:30 Shotgun Start\, (4 Player Scramble) \nWhere:     Marine Memorial Golf Course (MMGC) onboard Camp Pendleton (About) \nBenefiting \nMission San Luis Rey Parish & Semper Fi Fund \n\nREGISTER FOR THE GOLF TOURNAMENT\n\n  \n\nQR Cfor Golf Registration\n\n\n\n\n\nREGISTRATION LINKS\nRegistration OPEN\n\n\n\n\nGOLF REGISTRATION\nRegister for the Golf Tournament\n$150 per (golf+dinner)\, ($500 /foursome+dinners)\, $40 (dinner only)\n\n\nMILITARY EASY BASE ACCESS PASS\n(Easy Pass Base Access) form for Civilian Access for GOLF Tournament.\n\n\nSPONSORSHIP\nLearn and Sign Up for Sponsorships\n\n\nGOLF TOURNAMENT BROCHURE\nGolf Tournament Brochure\n\n\nWe encourage all golfers and all ages to participate\nGolf Tournament EXTRA’S Putting Contest\, Ball Drop and Super Ticket Bundle (Coming Soon) \nSilent Auction (Coming Soon) \n\n\n\n\nBenefiting \nMission San Luis Rey Parish & Semper Fi Fund \n\n\n\n\n\n\n\n\n\n\n\n\nDear Fellow BKs\, Active Duty\, Veterans\, Golfers\, Community Members & Volunteers; \nAs a result of many generous sponsors and players over the years we have been able to expand and support our Charitable Ministries both here at Mission San Luis Rey parish\, but also all of San Diego County. \nWhether your support is a Major Sponsorship\, hole sponsor\, beverage cart sponsor\, player\, donation or in-kind contribution\, you can rest assured that we are most appreciative and we will use the proceeds to help those in need. \nAs we look forward to August 23\, 2024 we are again asking for your critical support to continue our Ministries knowing that they make a difference in many\, many lives here in our community. In 2023 we have chosen to benefactor the needs of the Mission San Luis Rey Parish which supports needy families and youth activities & the Semper Fi Fund ( Semper Fi Fund/America’s Fund Camp Pendleton Unit. Provides Financial Support to Combat Wounded\, ill & Injured Members of Armed Services &Their Families). We have also chosen to host our event at the Marine Memorial Golf Course (MMGC) \, which supports our Sailors and Marines onboard Camp Pendleton with more than 80 comprehensive programs supported by Non-Appropriated Funds\, profits generated from retail\, services\, and recreational activities\, such as golf events at Marine Memorial Golf Course. \nLast year was such a great success. Our tournament has been dedicated to a 26 year retired Marine MSgt\, who passed away in May 2022. He was a cornerstone of our parish and community and exemplified Charity\, Unity and Fraternity. The\, “MSgt Tuputala (Tala) Paulo 2nd Annual Memorial Charity Golf Tournament”. You can learn more about MSgt and Brother Knight: Tala Paulo here. \nWe’ve upgraded and streamlined this year’s tournament with on-course beverage carts and a buffet style dinner\, extra bar tenders\, just to name a few items\, I want to say thank you for your consideration and donating your time and resources in supporting our Knights of Columbus Council and these charities. \nDAVE AUSTIN\, Retired USMC \nGolf Committee Chairperson\nKnight of Columbus: Council 3162\nMission San Luis Rey Parish\nOceanside\, CA\n760.917.6439\ndavidlaustin1965@gmail.com \n  \n\n\n\n\n\n2023 Knights of Columbus 2nd Annual “MSgt Tuputala (Tala) Paulo Memorial” Charity Golf Tournament“\n\n\nDATE:\nFriday\, August 23\, 2024\n\n\n\n\nLOCATION:\nMarine Memorial Golf Course\nBldg. 18415 Golf Course Road\nCamp Pendleton\, CA 92055\nOffice: 760-763-7869\nPro Shop: 760-725-4653Please find directions to Marine Memorial Golf Course below:\nDirections from I-5:\nTake Highway 76 East. Turn left on College Blvd.  At the “T” intersection\, turn right on North River Road/Vandegrift Blvd. Stay on Vandegrift and go towards the San Luis Rey Gate\, please use the far right lane. Pass the Paintball field on your left. Turn left onto 4th Street. Turn left on Golf Course Road.Directions from I-I5:\nTake Highway 76 West towards Oceanside. Turn right on North River Road (two miles past Bonsall). Turn right onto Vandegrift Blvd. Go towards the San Luis Rey Gate\, please use the far right lane. Pass the Paintball field on your left. Turn left onto 4th Street. Turn left on Golf Course Road \nDisclaimer:\nThe United States Marine Corps; Marine Corps Installation West-Marine Corps Base\, Camp Pendleton; and Marine Corps Community Services do not support or endorse this event.\n\n\nSCHEDULE:\n07:00 – Player check-in is open/Practice Range Opens\, Sign in\, get your grab bag\, purchase Golf Extras if you haven’t and goodies\, allow 30 extra minutes for heavy base commuter traffic expected.\n07:45 – Putting Contest (chance to win a brand new Taylor Made Putter)\n08:25 – Pledge of Allegiance\n08:30 – 13:30 GOLF Shotgun Start (4 Person Scramble Best Ball):\nImmediately Following Tournament Play – Ball Drop\, Conversation\, Laughter and No host Cocktails\, Dinner/Awards Banquet\, bidder winner’s table\, prizes\, trophy table\, announcements\, Winning Trophy Presentation\, about Tala Paulo closing remarks and thank you’s\n\n\nELIGIBILITY:\nOpen to all golfers civilians\, active duty and veterans.\n\n\nGOLFER REGISTRATION:\n$150 per golfer\n$500 per foursome\n$40 for dinner only\nRegistration is open for this years tournament\n\n\nQuestions:\nContact:\nDave Austin: 760.917.6439 // davidlaustin1965@gmail.com\n\n\nVolunteers:\nIf you are Brother Knight interested in volunteering please sign-up. Contact PGK Dave Austin\n\n\nQualifier\nThe top three foursomes will qualify to participate in Randy Jones Invitational Semi-Finals\n\n\n\n\nPosters\, Brochures and Press Release’s to be distributed can be downloaded here:\nMSgt Tuputala (Tala) Paulo Memorial Charity Golf Tournament Brochure\nMSgt Tuputala (Tala) Paulo Memorial Charity Golf Tournament Press Release\nABOUT: MSgt Tuputala (Tala) Paulo
URL:https://kofc3162.org/event/knights-of-columbus-1st-annual-msgt-tuputala-tala-paulo-memorial-charity-golf-tournament/
LOCATION:Marine Memorial Golf Course (Camp Pendleton)\, Bldg. 18415 Golf Course Road\, Camp Pendleton\, CA\, 92055\, United States
CATEGORIES:Community,Faith,Family,food,Membership,ORGANIZATIONAL,Volunteer Opportunities,Youth Activity
ATTACH;FMTTYPE=image/png:https://kofc3162.org/wp-content/uploads/2023/04/image_2023-04-03_123352119.png
END:VEVENT
BEGIN:VEVENT
DTSTART;TZID=America/Los_Angeles:20230107T090000
DTEND;TZID=America/Los_Angeles:20230107T120000
DTSTAMP:20260420T011811
CREATED:20220817T171754Z
LAST-MODIFIED:20221206T152210Z
UID:2024-1673082000-1673092800@kofc3162.org
SUMMARY:Free Throw Champsionship
DESCRIPTION:(EVENT) : Free Throw Championships (LOCATION) : Mission San Luis Rey Basketball Courts (PURPOSE) : Youth Activity (ORGANIZER) : TBD \ndetailed information can be found: \n \nDate: Saturday January 7\, 2023 \nFREE THROW CHAMPIONSHIP \nBoys and Girls Ages 9-14\, (Eligibility is determined by age as of January 1\, 2023)Hosted by: Knights of Columbus #3162 of Mission San Luis Rey https://kofc3162.org/freethrow \n  \nSince 1972\, local Knights of Columbus councils have sponsored the Free Throw Championship all across the country for boys and girls from the ages of 9 to 14 to provide an athletic outlet and encourage the values of sportsmanship and healthy competition.  Kids compete within their own gender and age and progress from the local level to district\, regional and state competitions.  Before the pandemic\, in 2019 more than 120\,000 sharpshooters participated in over 3\,600 local competitions \n\n\n\nDATE:\nSaturday\, January 7\, 2023\n\n\n\n\nTIMES:\nPlayer registration: 09:00 AM \, Competition: 09:30 AM – 11:30 AM\nAwards:   Immediately Following Competition\n\n\nLOCATION:\nMission San Luis Rey Basketball Courts\n4070 Mission Ave\, Oceanside\, CA 92057 – Outdoor Basketball Courts are located off Parish Way past the Scholarship Prep Charter School and before the Mission Church rear parking lot. gps: 33.233325\, -117.316485\n\n\nCOST:\nFree! – No Entry Fee\, Just bring Smiles and have FUN!\n\n\nELIGIBILITY:\nOpen to all boys and girls in the Greater North County area Ages 9–14 (as of January 1\, 2023). Proof of Age required: Must be present when competition begins.\n\n\nENTRY /SIGN UP:\nNo pre–signup is required but is recommended. Players can sign up the day of the event\nfrom 9:00-9:30 am (registration will close promptly at 9:30) at the check-in table\non the Official Entry Form which requires parental consent. Bring a parent to sign and proof of age!\n\n\nPre-Registration Form\nPlease reserve a spot for your child / children and complete the Register here form for each child.\n\n\nQuestions:\nEMAIL Program Chair\n\n\nVolunteers:\ncontact BK Don Watters chairman for volunteer opportunities at dcwatters@aol.com or 714.832.7881 https://kofc3162.org/freethrow\n\n\nCompetition Rules:\nReview Here\n\n\nFloor Plan:\ncoming soon\n\n\nQualifier\nThe top three winners in each age group will advance to the District Championship. Time and location TBD.\n\n\n\n  \nPosters\, Brochures and Press Release’s to be distributed can be downloaded here:\nHorizontal Poster\nVertical Poster\nFree Throw Contest Information Brochure\n2023 Free Throw Contest Entry and Scoresheet\nFree Throw Contest Press Release \nCouncil Christmas Party – Friday Dec 9 5-8pm:\nPlease bring the family and enjoy the festivities. The council will provide the main course of ham and turkey. We ask those attending to bring a side dish or dessert. Activities will include an “Ugly” Sweater Contest (prize to be awarded). PGK Austin and Lady Luz will be hosting a White Elephant gift exchange event. If you would like to participate\, please bring a wrapped unisex gift between $20-$30. We will also be raffling off 2 gift baskets as well.  We will be collecting wrapped toys for the “Toys for Tots” program and there will also be an “Angel Tree” in which you pick a name for someone in need to fulfill their gift request (Loretto House). And last but not least\, there will be a visit from Santa Claus (so be good for goodness sake). The dress code will be holiday casual. Please respond if you plan on bringing a side dish or dessert and what it is. Any questions or concerns\, please give me a call at (760) 814-5515 or email: dragon_blue_64@yahoo.com Hope to see all of you there. Take care and God Bless. \n  \nAug 2023 Golf Tournament – details coming soon\, contact BK Dave Austin chairman for volunteer opportunities and details at davidlaustin1965@gmail.com or 760.917.6439 website https://kofc3162.org/golf/ \nAs we look forward to 2023\, we are again asking for your critical support to continue our Ministries knowing that they make a difference in many\, many lives here in our community. In advance\, I want to say thank you for your consideration and donating your time and resources in supporting our Knights of Columbus Council and these charities. Please check back often for Tournament Updates\, Registration\, Sponsorships\, Donation forms will be available shortly. \nOUR WBSITE IS A GREAT RESOURCE FOR YOU \n\nMeeting Minutes are posted on our website http://kofc3162.org/minutes/\nCrusader Newsletters are posted on our website: http://kofc3162.org/crusader/\nCouncil Calendar can be found here: http://kofc3162.org/calendar/\nPlease visit our website http://kofc3162.org for the latest information\, news\, pictures\, national\, state\, and local council chapter news.\n\n  \nPRAYER LIST (Deus Vobiscum) \n\nFor Pope Francis and the Holy Catholic Church and for Brother Knights\nCanonization of Fr Michael J. McGivney\nRemembering those knights and family members who are sick or in distress and need our prayers. They are listed here: \nCouncil #3162 Deployed Military Council members\, for Brother Knights: – Fernando Acuna\, Tim Daniels\, Ron Harvey\, Don McClelland\, Al Rowe\, Tom Reising\, George Rovetto\, & Don Schweibold.\nPrayers for the following Priests:  Nestor Almazan\, Fr. Luis Guzman\, Fr. Jorge Hernandez\, Fr. Louis Khoury\, Fr. Peter Kirwin\, Fr. Armando Lopez\, Fr. Arturo Lopez\, and Fr. Ed Sarrazin\n\n\n\n\nNovember \nKnight of the Month –  Ed Bagon \nFamily of the Month – Don & Lori Watters \n\n\n\n  \n  \n  \n  \nVETERANS BREAKFEAST \n  \n  \n  \n\n\n\nThank you to all Veterans and Brother Knights that came out and volunteered their time\n\n\n\n  \nKnights of Columbus\nSan Luis Rey de Francia Council #3162\nPO Box 5162\nOceanside\, CA 92052    \n  \n  \n  \n  \n  \n  \n  \n  \n  \n  \n  \n  \n  \n  \n  \n  \n  \n  \n  \n  \n  \n  \n  \n  \nThe CRUSADER\nThe Official Newsletter of the Mission San Luis Rey Parish\nKnights of Columbus Council #3162 \n 
URL:https://kofc3162.org/event/free-throw-champsionship/
LOCATION:Mission San Luis Rey Basketball Courts\, 4070 Mission Ave\, oceanside\, CA\, 92057\, United States
CATEGORIES:Youth Activity
ATTACH;FMTTYPE=image/png:https://kofc3162.org/wp-content/uploads/2022/08/image_2022-12-02_104801209.png
END:VEVENT
END:VCALENDAR